BEGIN:VCALENDAR
VERSION:2.0
PRODID:-//Plone.org//NONSGML plone.app.event//EN
X-WR-TIMEZONE:Europe/Berlin
BEGIN:VEVENT
SUMMARY:Faschingsturnier in Marbach
DTSTART;TZID=Europe/Berlin;VALUE=DATE-TIME:20260221T093000
DTEND;TZID=Europe/Berlin;VALUE=DATE-TIME:20260221T170000
DTSTAMP;VALUE=DATE-TIME:20260421T202902Z
UID:f014b30177564700ac89be0b67112e51
CREATED;VALUE=DATE-TIME:20260120T123049Z
DESCRIPTION:U10-Faschingsturnier des TV Marbach
LAST-MODIFIED;VALUE=DATE-TIME:20260120T170706Z
LOCATION:Sporthalle am Lauerbäumle\, Marbach am Neckar
URL:https://www.merian-basketball-ulm.de/events/faschingsturnier-in-marbac
 h
END:VEVENT
BEGIN:VTIMEZONE
TZID:Europe/Berlin
X-LIC-LOCATION:Europe/Berlin
BEGIN:STANDARD
DTSTART;VALUE=DATE-TIME:20251026T020000
TZNAME:CET
TZOFFSETFROM:+0200
TZOFFSETTO:+0100
END:STANDARD
END:VTIMEZONE
END:VCALENDAR
