BEGIN:VCALENDAR
VERSION:2.0
PRODID:-//Plone.org//NONSGML plone.app.event//EN
X-WR-TIMEZONE:Europe/Berlin
BEGIN:VEVENT
SUMMARY:U10-Liga Endrunde
DTSTART;TZID=Europe/Berlin;VALUE=DATE-TIME:20190223T124000
DTEND;TZID=Europe/Berlin;VALUE=DATE-TIME:20190223T140000
DTSTAMP;VALUE=DATE-TIME:20260424T050618Z
UID:a4328ac9199542c88fa82b931b62a4f3
CREATED;VALUE=DATE-TIME:20190108T165057Z
DESCRIPTION:Merian 1 gegen SV Oberelchingen
LAST-MODIFIED;VALUE=DATE-TIME:20190108T165102Z
LOCATION:Merian-Halle
URL:https://www.merian-basketball-ulm.de/events/u10-liga-endrunde-3
END:VEVENT
BEGIN:VTIMEZONE
TZID:Europe/Berlin
X-LIC-LOCATION:Europe/Berlin
BEGIN:STANDARD
DTSTART;VALUE=DATE-TIME:20181028T020000
TZNAME:CET
TZOFFSETFROM:+0200
TZOFFSETTO:+0100
END:STANDARD
END:VTIMEZONE
END:VCALENDAR
