BEGIN:VCALENDAR
VERSION:2.0
PRODID:-//Plone.org//NONSGML plone.app.event//EN
X-WR-TIMEZONE:Europe/Berlin
BEGIN:VEVENT
SUMMARY:Grundschulliga
DTSTART;TZID=Europe/Berlin;VALUE=DATE-TIME:20180428T100000
DTEND;TZID=Europe/Berlin;VALUE=DATE-TIME:20180428T160000
DTSTAMP;VALUE=DATE-TIME:20260424T050418Z
UID:1b8081a8be2e42ba8b4b67b64579c96b
CREATED;VALUE=DATE-TIME:20180307T160121Z
DESCRIPTION:Halbfinale C-Team
LAST-MODIFIED;VALUE=DATE-TIME:20180307T160129Z
LOCATION:ratiopharm-Arena Neu-Ulm
URL:https://www.merian-basketball-ulm.de/grundschulliga-12
END:VEVENT
BEGIN:VTIMEZONE
TZID:Europe/Berlin
X-LIC-LOCATION:Europe/Berlin
BEGIN:DAYLIGHT
DTSTART;VALUE=DATE-TIME:20180325T030000
TZNAME:CEST
TZOFFSETFROM:+0100
TZOFFSETTO:+0200
END:DAYLIGHT
END:VTIMEZONE
END:VCALENDAR
