BEGIN:VCALENDAR
VERSION:2.0
PRODID:-//Plone.org//NONSGML plone.app.event//EN
X-WR-TIMEZONE:Europe/Berlin
BEGIN:VEVENT
SUMMARY:Grundschulliga
DTSTART;TZID=Europe/Berlin;VALUE=DATE-TIME:20170430T140000
DTEND;TZID=Europe/Berlin;VALUE=DATE-TIME:20170430T170000
DTSTAMP;VALUE=DATE-TIME:20260420T083444Z
UID:1128aacc44b64828848ffc536a702a71
CREATED;VALUE=DATE-TIME:20170406T125441Z
DESCRIPTION:Halbfinale und Finale
LAST-MODIFIED;VALUE=DATE-TIME:20170406T125446Z
LOCATION:Neu-Ulm\, Ratiopharm-Arena
URL:https://www.merian-basketball-ulm.de/grundschulliga-2
END:VEVENT
BEGIN:VTIMEZONE
TZID:Europe/Berlin
X-LIC-LOCATION:Europe/Berlin
BEGIN:DAYLIGHT
DTSTART;VALUE=DATE-TIME:20170326T030000
TZNAME:CEST
TZOFFSETFROM:+0100
TZOFFSETTO:+0200
END:DAYLIGHT
END:VTIMEZONE
END:VCALENDAR
