BEGIN:VCALENDAR
VERSION:2.0
PRODID:-//Plone.org//NONSGML plone.app.event//EN
X-WR-TIMEZONE:Europe/Berlin
BEGIN:VEVENT
SUMMARY:Grundschulliga Schools League
DTSTART;TZID=Europe/Berlin;VALUE=DATE-TIME:20230308T083000
DTEND;TZID=Europe/Berlin;VALUE=DATE-TIME:20230308T130000
DTSTAMP;VALUE=DATE-TIME:20260422T113855Z
UID:7d7c7a8f73c845cb9e20b4a184c49ca1
CREATED;VALUE=DATE-TIME:20230217T210920Z
DESCRIPTION:Spieltag der Erst- und Zweitklässler
LAST-MODIFIED;VALUE=DATE-TIME:20230217T210928Z
LOCATION:Orange Campus Neu-Ulm
URL:https://www.merian-basketball-ulm.de/grundschulliga-schools-league
END:VEVENT
BEGIN:VTIMEZONE
TZID:Europe/Berlin
X-LIC-LOCATION:Europe/Berlin
BEGIN:STANDARD
DTSTART;VALUE=DATE-TIME:20221030T020000
TZNAME:CET
TZOFFSETFROM:+0200
TZOFFSETTO:+0100
END:STANDARD
END:VTIMEZONE
END:VCALENDAR
