BEGIN:VCALENDAR
VERSION:2.0
PRODID:-//Plone.org//NONSGML plone.app.event//EN
X-WR-TIMEZONE:Europe/Berlin
BEGIN:VEVENT
SUMMARY:Grundschullliga
DTSTART;TZID=Europe/Berlin;VALUE=DATE-TIME:20170406T084500
DTEND;TZID=Europe/Berlin;VALUE=DATE-TIME:20170406T123000
DTSTAMP;VALUE=DATE-TIME:20260421T142004Z
UID:d314f59b38ab4840a9d18f8c297b26de
CREATED;VALUE=DATE-TIME:20170208T161251Z
DESCRIPTION:Rückspiele Team A
LAST-MODIFIED;VALUE=DATE-TIME:20170208T161257Z
LOCATION:Eduard-Mörike-Schule Böfingen
URL:https://www.merian-basketball-ulm.de/grundschullliga
END:VEVENT
BEGIN:VTIMEZONE
TZID:Europe/Berlin
X-LIC-LOCATION:Europe/Berlin
BEGIN:DAYLIGHT
DTSTART;VALUE=DATE-TIME:20170326T030000
TZNAME:CEST
TZOFFSETFROM:+0100
TZOFFSETTO:+0200
END:DAYLIGHT
END:VTIMEZONE
END:VCALENDAR
