BEGIN:VCALENDAR
VERSION:2.0
PRODID:-//Plone.org//NONSGML plone.app.event//EN
X-WR-TIMEZONE:Europe/Berlin
BEGIN:VEVENT
SUMMARY:U10-Liga
DTSTART;TZID=Europe/Berlin;VALUE=DATE-TIME:20180210T124000
DTEND;TZID=Europe/Berlin;VALUE=DATE-TIME:20180210T140000
DTSTAMP;VALUE=DATE-TIME:20260421T070835Z
UID:a71c530b51a542b8aa12ee44c5f07e62
CREATED;VALUE=DATE-TIME:20180105T171912Z
DESCRIPTION:Spiel gegen Scan Plus Elchingen
LAST-MODIFIED;VALUE=DATE-TIME:20180105T172006Z
LOCATION:Elchingen\, Brühlhalle
URL:https://www.merian-basketball-ulm.de/u10-liga-10
END:VEVENT
BEGIN:VTIMEZONE
TZID:Europe/Berlin
X-LIC-LOCATION:Europe/Berlin
BEGIN:STANDARD
DTSTART;VALUE=DATE-TIME:20171029T020000
TZNAME:CET
TZOFFSETFROM:+0200
TZOFFSETTO:+0100
END:STANDARD
END:VTIMEZONE
END:VCALENDAR
