BEGIN:VCALENDAR
VERSION:2.0
PRODID:-//Plone.org//NONSGML plone.app.event//EN
X-WR-TIMEZONE:Europe/Berlin
BEGIN:VEVENT
SUMMARY:U10-Liga
DTSTART;TZID=Europe/Berlin;VALUE=DATE-TIME:20201011T100000
DTEND;TZID=Europe/Berlin;VALUE=DATE-TIME:20201011T112000
DTSTAMP;VALUE=DATE-TIME:20260421T064757Z
UID:183b7b75bac64109b626addd54115c09
CREATED;VALUE=DATE-TIME:20200819T100333Z
DESCRIPTION:Merian 2 gegen SV Tomerdingen
LAST-MODIFIED;VALUE=DATE-TIME:20200819T100348Z
LOCATION:Merian-Halle
URL:https://www.merian-basketball-ulm.de/u10-liga-24
END:VEVENT
BEGIN:VTIMEZONE
TZID:Europe/Berlin
X-LIC-LOCATION:Europe/Berlin
BEGIN:DAYLIGHT
DTSTART;VALUE=DATE-TIME:20200329T030000
TZNAME:CEST
TZOFFSETFROM:+0100
TZOFFSETTO:+0200
END:DAYLIGHT
END:VTIMEZONE
END:VCALENDAR
