BEGIN:VCALENDAR
VERSION:2.0
PRODID:-//Plone.org//NONSGML plone.app.event//EN
X-WR-TIMEZONE:Europe/Berlin
BEGIN:VEVENT
SUMMARY:U10-Liga
DTSTART;TZID=Europe/Berlin;VALUE=DATE-TIME:20201213T160000
DTEND;TZID=Europe/Berlin;VALUE=DATE-TIME:20201213T172000
DTSTAMP;VALUE=DATE-TIME:20260420T004117Z
UID:5baf6032069f42f89db4c5a74475e031
CREATED;VALUE=DATE-TIME:20200819T104403Z
DESCRIPTION:Merian 1 gegen TSG Ehingen
LAST-MODIFIED;VALUE=DATE-TIME:20200819T104408Z
LOCATION:Orange Campus Neu-Ulm
URL:https://www.merian-basketball-ulm.de/u10-liga-41
END:VEVENT
BEGIN:VTIMEZONE
TZID:Europe/Berlin
X-LIC-LOCATION:Europe/Berlin
BEGIN:STANDARD
DTSTART;VALUE=DATE-TIME:20201025T020000
TZNAME:CET
TZOFFSETFROM:+0200
TZOFFSETTO:+0100
END:STANDARD
END:VTIMEZONE
END:VCALENDAR
