BEGIN:VCALENDAR
VERSION:2.0
PRODID:-//Plone.org//NONSGML plone.app.event//EN
X-WR-TIMEZONE:Europe/Berlin
BEGIN:VEVENT
SUMMARY:U10-Liga
DTSTART;TZID=Europe/Berlin;VALUE=DATE-TIME:20201115T100000
DTEND;TZID=Europe/Berlin;VALUE=DATE-TIME:20201115T120000
DTSTAMP;VALUE=DATE-TIME:20260424T050322Z
UID:d4645f411668492ea4811190e9def44f
CREATED;VALUE=DATE-TIME:20200825T073812Z
DESCRIPTION:Merian 1 gegen scanplus baskets Elchingen 2
LAST-MODIFIED;VALUE=DATE-TIME:20200825T073822Z
LOCATION:Nersingen\, Trainingszentrum
URL:https://www.merian-basketball-ulm.de/u10-liga-43
END:VEVENT
BEGIN:VTIMEZONE
TZID:Europe/Berlin
X-LIC-LOCATION:Europe/Berlin
BEGIN:STANDARD
DTSTART;VALUE=DATE-TIME:20201025T020000
TZNAME:CET
TZOFFSETFROM:+0200
TZOFFSETTO:+0100
END:STANDARD
END:VTIMEZONE
END:VCALENDAR
