BEGIN:VCALENDAR
VERSION:2.0
PRODID:-//Plone.org//NONSGML plone.app.event//EN
X-WR-TIMEZONE:Europe/Berlin
BEGIN:VEVENT
SUMMARY:U10-Liga
DTSTART;TZID=Europe/Berlin;VALUE=DATE-TIME:20210916T130000
DTEND;TZID=Europe/Berlin;VALUE=DATE-TIME:20210916T143000
DTSTAMP;VALUE=DATE-TIME:20260419T201938Z
UID:2f657d951e224728b5cf945989c1d492
CREATED;VALUE=DATE-TIME:20210916T122708Z
DESCRIPTION:Merian 1 gegen TSG Söflingen
LAST-MODIFIED;VALUE=DATE-TIME:20210916T122713Z
LOCATION:Merian-Halle Ulm
URL:https://www.merian-basketball-ulm.de/u10-liga-45
END:VEVENT
BEGIN:VTIMEZONE
TZID:Europe/Berlin
X-LIC-LOCATION:Europe/Berlin
BEGIN:DAYLIGHT
DTSTART;VALUE=DATE-TIME:20210328T030000
TZNAME:CEST
TZOFFSETFROM:+0100
TZOFFSETTO:+0200
END:DAYLIGHT
END:VTIMEZONE
END:VCALENDAR
