BEGIN:VCALENDAR
VERSION:2.0
PRODID:-//Plone.org//NONSGML plone.app.event//EN
X-WR-TIMEZONE:Europe/Berlin
BEGIN:VEVENT
SUMMARY:U10-Liga Endrunde
DTSTART;TZID=Europe/Berlin;VALUE=DATE-TIME:20220213T113000
DTEND;TZID=Europe/Berlin;VALUE=DATE-TIME:20220213T130000
DTSTAMP;VALUE=DATE-TIME:20260423T111347Z
UID:2949a5dc71f44b4f8b095f169b401237
CREATED;VALUE=DATE-TIME:20220112T090549Z
DESCRIPTION:Merian 1 gegen BBU 3
LAST-MODIFIED;VALUE=DATE-TIME:20220112T090609Z
LOCATION:Orange Campus Neu-Ulm
URL:https://www.merian-basketball-ulm.de/u10-liga-endrunde-8
END:VEVENT
BEGIN:VTIMEZONE
TZID:Europe/Berlin
X-LIC-LOCATION:Europe/Berlin
BEGIN:STANDARD
DTSTART;VALUE=DATE-TIME:20211031T020000
TZNAME:CET
TZOFFSETFROM:+0200
TZOFFSETTO:+0100
END:STANDARD
END:VTIMEZONE
END:VCALENDAR
