BEGIN:VCALENDAR
VERSION:2.0
PRODID:-//Plone.org//NONSGML plone.app.event//EN
X-WR-TIMEZONE:Europe/Berlin
BEGIN:VEVENT
SUMMARY:U10-Liga Endrunde
DTSTART;TZID=Europe/Berlin;VALUE=DATE-TIME:20220213T130000
DTEND;TZID=Europe/Berlin;VALUE=DATE-TIME:20220213T143000
DTSTAMP;VALUE=DATE-TIME:20260421T142055Z
UID:c5b434832a4b4dff85fe61eb1010b083
CREATED;VALUE=DATE-TIME:20220112T090748Z
DESCRIPTION:Merian 1 gegen BBU 2
LAST-MODIFIED;VALUE=DATE-TIME:20220112T090753Z
LOCATION:Orange Campus Neu-Ulm
URL:https://www.merian-basketball-ulm.de/u10-liga-endrunde-9
END:VEVENT
BEGIN:VTIMEZONE
TZID:Europe/Berlin
X-LIC-LOCATION:Europe/Berlin
BEGIN:STANDARD
DTSTART;VALUE=DATE-TIME:20211031T020000
TZNAME:CET
TZOFFSETFROM:+0200
TZOFFSETTO:+0100
END:STANDARD
END:VTIMEZONE
END:VCALENDAR
