BEGIN:VCALENDAR
VERSION:2.0
PRODID:-//Plone.org//NONSGML plone.app.event//EN
X-WR-TIMEZONE:Europe/Berlin
BEGIN:VEVENT
SUMMARY:U10-Liga   Merian 2
DTSTART;TZID=Europe/Berlin;VALUE=DATE-TIME:20200322T124000
DTEND;TZID=Europe/Berlin;VALUE=DATE-TIME:20200322T140000
DTSTAMP;VALUE=DATE-TIME:20260424T050418Z
UID:60a9d718b9584c139b2d674fce8aad10
CREATED;VALUE=DATE-TIME:20200114T130022Z
DESCRIPTION:Merian 2 gegen TV Senden
LAST-MODIFIED;VALUE=DATE-TIME:20200114T130026Z
LOCATION:Dreifachturnhalle Senden
URL:https://www.merian-basketball-ulm.de/u10-liga-merian-2-5
END:VEVENT
BEGIN:VTIMEZONE
TZID:Europe/Berlin
X-LIC-LOCATION:Europe/Berlin
BEGIN:STANDARD
DTSTART;VALUE=DATE-TIME:20191027T020000
TZNAME:CET
TZOFFSETFROM:+0200
TZOFFSETTO:+0100
END:STANDARD
END:VTIMEZONE
END:VCALENDAR
