BEGIN:VCALENDAR
VERSION:2.0
PRODID:-//Plone.org//NONSGML plone.app.event//EN
X-WR-TIMEZONE:Europe/Berlin
BEGIN:VEVENT
SUMMARY:U10-Liga Platzierungsrunde
DTSTART;TZID=Europe/Berlin;VALUE=DATE-TIME:20190127T124000
DTEND;TZID=Europe/Berlin;VALUE=DATE-TIME:20190127T140000
DTSTAMP;VALUE=DATE-TIME:20260422T163122Z
UID:033ddef4df92415db307087cce31dc65
CREATED;VALUE=DATE-TIME:20190108T163830Z
DESCRIPTION:Merian 2 gegen SV Oberelchingen 2
LAST-MODIFIED;VALUE=DATE-TIME:20190108T163835Z
LOCATION:Merian-Halle
URL:https://www.merian-basketball-ulm.de/u10-liga-platzierungsrunde-1
END:VEVENT
BEGIN:VTIMEZONE
TZID:Europe/Berlin
X-LIC-LOCATION:Europe/Berlin
BEGIN:STANDARD
DTSTART;VALUE=DATE-TIME:20181028T020000
TZNAME:CET
TZOFFSETFROM:+0200
TZOFFSETTO:+0100
END:STANDARD
END:VTIMEZONE
END:VCALENDAR
