BEGIN:VCALENDAR
VERSION:2.0
PRODID:-//Plone.org//NONSGML plone.app.event//EN
X-WR-TIMEZONE:Europe/Berlin
BEGIN:VEVENT
SUMMARY:U10-Turnier in Bruchsal
DTSTART;TZID=Europe/Berlin;VALUE=DATE-TIME:20220410T110000
DTEND;TZID=Europe/Berlin;VALUE=DATE-TIME:20220410T160000
DTSTAMP;VALUE=DATE-TIME:20260419T202125Z
UID:fd967c5c394e4a91924aa5788db3647a
ATTENDEE;CN="Merian 1";ROLE=REQ-PARTICIPANT:Merian 1
CREATED;VALUE=DATE-TIME:20220330T130107Z
LAST-MODIFIED;VALUE=DATE-TIME:20220330T130121Z
LOCATION:Sporthalle Bahnstadt\, Bruchsal
URL:https://www.merian-basketball-ulm.de/u10-turnier-in-bruchsal
END:VEVENT
BEGIN:VTIMEZONE
TZID:Europe/Berlin
X-LIC-LOCATION:Europe/Berlin
BEGIN:DAYLIGHT
DTSTART;VALUE=DATE-TIME:20220327T030000
TZNAME:CEST
TZOFFSETFROM:+0100
TZOFFSETTO:+0200
END:DAYLIGHT
END:VTIMEZONE
END:VCALENDAR
